BEGIN:VCALENDAR
VERSION:2.0
METHOD:PUBLISH
PRODID:-//Agenda.ad//NONSGML v1.0//EN
BEGIN:VEVENT
CLASS:PUBLIC
UID:2f7a1f987f5bd429bc53d34b79870bed@agenda.ad
DTSTAMP:20260419T203004Z
DTSTART:20260306T230000Z
DTEND:20260306T230000Z
SUMMARY:<h1 class="documentFirstHeading">"Dones i ci&egrave;ncia ficci&oacute;", confer&egrave;ncia a c&agrave;rrec de Sandra Miralles</h1>
<div>&nbsp;</div>
<div id="viewlet-below-content-title">&nbsp;</div>
DESCRIPTION:\n\nMés informació\nhttps://www.agenda.ad/activitat/encamp
 /conferencies/dones-i-ciencia-ficcio-conferencia-a-carrec-de
 -sandra-miralles- - -23412\n
LOCATION:Biblioteca Comunal del Pas de la Casa
SEQUENCE:0
TRANSP:OPAQUE
X-ALT-DESC;FMTTYPE=text/html:<!DOCTYPE HTML PUBLIC "-//W3C//DTD HTML 3.2//EN"><HTML><HEAD
 ><TITLE></TITLE></HEAD><BODY><FONT FACE="Arial" SIZE=2><br/>
 <br/><b>Més informació</b><br/><a href="https://www.agenda
 .ad/activitat/encamp/conferencies/dones-i-ciencia-ficcio-con
 ferencia-a-carrec-de-sandra-miralles- - -23412">https://ww
 w.agenda.ad/activitat/encamp/conferencies/dones-i-ciencia-fi
 ccio-conferencia-a-carrec-de-sandra-miralles- - -23412</a>
 <br/></FONT></BODY></HTML>
END:VEVENT
END:VCALENDAR